BEGIN:VCALENDAR
VERSION:2.0
PRODID:-//TZ Općine Svetvinčenat - ECPv6.5.0//NONSGML v1.0//EN
CALSCALE:GREGORIAN
METHOD:PUBLISH
X-WR-CALNAME:TZ Općine Svetvinčenat
X-ORIGINAL-URL:https://tz-svetvincenat.hr
X-WR-CALDESC:Events for TZ Općine Svetvinčenat
REFRESH-INTERVAL;VALUE=DURATION:PT1H
X-Robots-Tag:noindex
X-PUBLISHED-TTL:PT1H
BEGIN:VTIMEZONE
TZID:Europe/Zagreb
BEGIN:DAYLIGHT
TZOFFSETFROM:+0100
TZOFFSETTO:+0200
TZNAME:CEST
DTSTART:20260329T010000
END:DAYLIGHT
BEGIN:STANDARD
TZOFFSETFROM:+0200
TZOFFSETTO:+0100
TZNAME:CET
DTSTART:20261025T010000
END:STANDARD
END:VTIMEZONE
BEGIN:VEVENT
DTSTART;TZID=Europe/Zagreb:20260425T200000
DTEND;TZID=Europe/Zagreb:20260425T220000
DTSTAMP:20260422T232557
CREATED:20171201T142504Z
LAST-MODIFIED:20260422T135855Z
UID:285-1777147200-1777154400@tz-svetvincenat.hr
SUMMARY:SAVIČENTA PLEŠE - Janet Novás & Mercedes Peón: MERCEDES MAIS EU
DESCRIPTION:Dobitnica nagrada Ojo Crítico Dance Award (RNE\, 2021) i Catalan Critics Award for Best Performer (2021)\, predstava Mercedes máis eu dolazi u Mediteranski plesni centar u sklopu programa Savičenta pleše\, uoči Međunarodnog dana plesa. \n\nRiječ je o zapaženom plesno-glazbenom duetu Janet Novás i Mercedes Peón\, koji se ističe snažnom izvedbenom prisutnošću i jedinstvenim odnosom tijela i zvuka.\n\n\n25. travnja u 20:00\nMediteranski plesni centar\, Svetvinčenat\nUlaznice: https://www.entrio.hr/event/janet-novas-mercedes-peon-mercedes-mais-eu-31507?utm_id=97758_v0_s00_e0_tv4&fbclid=IwY2xjawRVrqlleHRuA2FlbQIxMABicmlkETF5NjVMWmhXWkFuYkVLRHp0c3J0YwZhcHBfaWQQMjIyMDM5MTc4ODIwMDg5MgABHpEjki1eQalQwRDEEqbWr8xvC3H-kezITWE-CEnOaoicZS8FMaYcQlkiBv9L_aem_Ptx_1KT4jb1hsr05JSlLQQ\n\n\nViše informacija: www.mediteranskiplesnicentar.hr
URL:https://tz-svetvincenat.hr/event/festival-plesa-i-neverbalnog-kazalista/
LOCATION:Svetvinčenat\, Svetvinčenat 46\, Svetvinčenat\, Istra\, Croatia (Local Name: Hrvatska)
CATEGORIES:kolona 2
ATTACH;FMTTYPE=image/jpeg:https://tz-svetvincenat.hr/wp-content/uploads/2017/12/657448252_1431288342128420_3887022706166329095_n.jpg
END:VEVENT
BEGIN:VEVENT
DTSTART;VALUE=DATE:20260613
DTEND;VALUE=DATE:20260615
DTSTAMP:20260422T232557
CREATED:20171201T144721Z
LAST-MODIFIED:20251219T132007Z
UID:298-1781308800-1781481599@tz-svetvincenat.hr
SUMMARY:ROVERSKA FEŠTA
DESCRIPTION:  \n  \n 
URL:https://tz-svetvincenat.hr/event/roverska-festa/
LOCATION:Juršići
CATEGORIES:kolona 1
ATTACH;FMTTYPE=image/jpeg:https://tz-svetvincenat.hr/wp-content/uploads/2018/01/roverska-festa.jpg
END:VEVENT
BEGIN:VEVENT
DTSTART;VALUE=DATE:20260620
DTEND;VALUE=DATE:20260621
DTSTAMP:20260422T232557
CREATED:20171201T144325Z
LAST-MODIFIED:20251219T131624Z
UID:296-1781913600-1781999999@tz-svetvincenat.hr
SUMMARY:IVANJA - DANI OPĆINE SVETVINČENAT
DESCRIPTION:
URL:https://tz-svetvincenat.hr/event/ivanja/
LOCATION:Svetvinčenat\, Svetvinčenat 46\, Svetvinčenat\, Istra\, Croatia (Local Name: Hrvatska)
CATEGORIES:kolona 3
ATTACH;FMTTYPE=image/jpeg:https://tz-svetvincenat.hr/wp-content/uploads/2021/01/IVANJA.jpg
ORGANIZER;CN="TZ Svetvin%C4%8Denat":MAILTO:info@tz-svetvincenat.hr
END:VEVENT
BEGIN:VEVENT
DTSTART;VALUE=DATE:20260628
DTEND;VALUE=DATE:20260713
DTSTAMP:20260422T232557
CREATED:20171201T143409Z
LAST-MODIFIED:20260305T145802Z
UID:290-1782604800-1783900799@tz-svetvincenat.hr
SUMMARY:DANI LAVANDE
DESCRIPTION:
URL:https://tz-svetvincenat.hr/event/dani-lavande/
LOCATION:Pekici\, Pekici 1\, Pekici\, Istra\, 52342\, Croatia (Local Name: Hrvatska)
CATEGORIES:kolona 1
ATTACH;FMTTYPE=image/jpeg:https://tz-svetvincenat.hr/wp-content/uploads/2018/01/dan-lavande.jpg
END:VEVENT
BEGIN:VEVENT
DTSTART;TZID=Europe/Zagreb:20260731T180000
DTEND;TZID=Europe/Zagreb:20260802T233000
DTSTAMP:20260422T232557
CREATED:20171201T141401Z
LAST-MODIFIED:20260216T111600Z
UID:282-1785520800-1785713400@tz-svetvincenat.hr
SUMMARY:14. SREDNJOVJEKOVNI FESTIVAL
DESCRIPTION: 
URL:https://tz-svetvincenat.hr/event/srednjovjekovni-festival/
LOCATION:Svetvinčenat\, Svetvinčenat 46\, Svetvinčenat\, Istra\, Croatia (Local Name: Hrvatska)
CATEGORIES:kolona 3
ATTACH;FMTTYPE=image/jpeg:https://tz-svetvincenat.hr/wp-content/uploads/2017/12/DSC03487.jpg
END:VEVENT
BEGIN:VEVENT
DTSTART;VALUE=DATE:20260919
DTEND;VALUE=DATE:20260921
DTSTAMP:20260422T232557
CREATED:20171201T143622Z
LAST-MODIFIED:20260216T130215Z
UID:293-1789776000-1789948799@tz-svetvincenat.hr
SUMMARY:14. FESTIVAL SIRA I 26. NAJ KOZA
DESCRIPTION: 
URL:https://tz-svetvincenat.hr/event/festival-sira-i-naj-koza/
LOCATION:Svetvinčenat\, Svetvinčenat 46\, Svetvinčenat\, Istra\, Croatia (Local Name: Hrvatska)
CATEGORIES:kolona 1
ATTACH;FMTTYPE=image/jpeg:https://tz-svetvincenat.hr/wp-content/uploads/2017/12/SIR5.jpg
END:VEVENT
BEGIN:VEVENT
DTSTART;VALUE=DATE:20261004
DTEND;VALUE=DATE:20261005
DTSTAMP:20260422T232557
CREATED:20171201T135256Z
LAST-MODIFIED:20260216T125527Z
UID:267-1791072000-1791158399@tz-svetvincenat.hr
SUMMARY:SMOTRA ISTARSKOG TOVARA
DESCRIPTION:
URL:https://tz-svetvincenat.hr/event/smotra-istarskog-tovara/
LOCATION:Juršići
CATEGORIES:kolona 3
ATTACH;FMTTYPE=image/jpeg:https://tz-svetvincenat.hr/wp-content/uploads/2018/01/smotra-tovari.jpg
ORGANIZER;CN="TZ Svetvin%C4%8Denat":MAILTO:info@tz-svetvincenat.hr
END:VEVENT
BEGIN:VEVENT
DTSTART;VALUE=DATE:20261024
DTEND;VALUE=DATE:20261025
DTSTAMP:20260422T232557
CREATED:20171201T135110Z
LAST-MODIFIED:20260216T134131Z
UID:263-1792800000-1792886399@tz-svetvincenat.hr
SUMMARY:FEŠTA MLADEGA VINA
DESCRIPTION:
URL:https://tz-svetvincenat.hr/event/festa-mladega-vina/
LOCATION:Svetvinčenat\, Svetvinčenat 46\, Svetvinčenat\, Istra\, Croatia (Local Name: Hrvatska)
CATEGORIES:kolona 1
ATTACH;FMTTYPE=image/jpeg:https://tz-svetvincenat.hr/wp-content/uploads/2018/01/fešta-mladega-vina-1.jpg
ORGANIZER;CN="TZ Svetvin%C4%8Denat":MAILTO:info@tz-svetvincenat.hr
END:VEVENT
END:VCALENDAR